BEGIN:VCALENDAR
VERSION:2.0
PRODID:-//Tukios.com/
BEGIN:VEVENT
UID:9e978109-f9b6-4d09-8b44-cbe2149b5f12@www.linvillememorial.com
DTSTAMP:20260424T092821Z
DTSTART:20260427T153000Z
DTEND:20260427T163000Z
SUMMARY:Visitation
DESCRIPTION:
URL:https://www.linvillememorial.com/obituaries/john-graham-jr
LOCATION: 1766 S Fleahop Rd  Eclectic AL 36024
GEO:32.5773255;-86.0162827
END:VEVENT
END:VCALENDAR