BEGIN:VCALENDAR
VERSION:2.0
PRODID:-//Tukios.com/
BEGIN:VEVENT
UID:39d4e6f6-24f3-4e24-9e15-1d46051bca42@www.linvillememorial.com
DTSTAMP:20260424T092001Z
DTSTART:20260427T163000Z
DTEND:20260427T173000Z
SUMMARY:Memorial Service
DESCRIPTION:
URL:https://www.linvillememorial.com/obituaries/john-graham-jr
LOCATION: 1766 S Fleahop Rd  Eclectic AL 36024
GEO:32.5773255;-86.0162827
END:VEVENT
END:VCALENDAR