BEGIN:VCALENDAR
VERSION:2.0
PRODID:-//Tukios.com/
BEGIN:VEVENT
UID:12ce8530-366d-403b-8a03-4a6d39b40b25@www.linvillememorial.com
DTSTAMP:20260424T190448Z
DTSTART:20260427T190000Z
DTEND:20260427T200000Z
SUMMARY:Memorial Service
DESCRIPTION:
URL:https://www.linvillememorial.com/obituaries/robert-tucker
LOCATION: 84632 Tallassee Highway  Eclectic AL 36024
GEO:32.5729078;-86.0142761
END:VEVENT
END:VCALENDAR